Package: BASiCStan Version: 1.6.0 Command: chmod a+r BASiCStan -R && F:\biocbuild\bbs-3.19-bioc\R\bin\R.exe CMD build --keep-empty-dirs --no-resave-data BASiCStan StartedAt: 2024-06-26 17:13:53 -0400 (Wed, 26 Jun 2024) EndedAt: 2024-06-26 17:19:29 -0400 (Wed, 26 Jun 2024) EllapsedTime: 335.9 seconds RetCode: 0 Status: OK PackageFile: BASiCStan_1.6.0.tar.gz PackageFileSize: 42.47 KiB