Package: BASiCStan Version: 1.6.0 Command: rm -rf BASiCStan.buildbin-libdir && mkdir BASiCStan.buildbin-libdir && F:\biocbuild\bbs-3.19-bioc\R\bin\R.exe CMD INSTALL --build --library=BASiCStan.buildbin-libdir BASiCStan_1.6.0.tar.gz StartedAt: 2024-06-27 07:51:34 -0400 (Thu, 27 Jun 2024) EndedAt: 2024-06-27 07:57:31 -0400 (Thu, 27 Jun 2024) EllapsedTime: 356.6 seconds RetCode: 0 Status: OK PackageFile: BASiCStan_1.6.0.zip PackageFileSize: 1.211 MiB