Package: BASiCStan Version: 1.6.0 Command: /home/biocbuild/bbs-3.19-bioc/R/bin/R CMD check --install=check:BASiCStan.install-out.txt --library=/home/biocbuild/bbs-3.19-bioc/R/site-library --timings BASiCStan_1.6.0.tar.gz StartedAt: 2024-10-16 21:49:40 -0400 (Wed, 16 Oct 2024) EndedAt: 2024-10-16 21:55:34 -0400 (Wed, 16 Oct 2024) EllapsedTime: 353.7 seconds RetCode: 0 Status: OK CheckDir: BASiCStan.Rcheck Warnings: 0