Package: BASiCStan Version: 1.6.0 Command: /home/biocbuild/bbs-3.19-bioc/R/bin/R CMD build --keep-empty-dirs --no-resave-data BASiCStan StartedAt: 2024-10-16 17:02:31 -0400 (Wed, 16 Oct 2024) EndedAt: 2024-10-16 17:07:15 -0400 (Wed, 16 Oct 2024) EllapsedTime: 284.4 seconds RetCode: 0 Status: OK PackageFile: BASiCStan_1.6.0.tar.gz PackageFileSize: 61.21 KiB