Package: BASiCStan Version: 1.6.0 Command: /Library/Frameworks/R.framework/Resources/bin/R CMD INSTALL BASiCStan StartedAt: 2024-10-16 16:41:29 -0400 (Wed, 16 Oct 2024) EndedAt: 2024-10-16 16:49:51 -0400 (Wed, 16 Oct 2024) EllapsedTime: 502.4 seconds RetCode: 0 Status: OK