Package: BASiCStan Version: 1.6.0 Command: /home/biocbuild/R/R-beta-2024-04-15_r86425/bin/R CMD build --keep-empty-dirs --no-resave-data BASiCStan StartedAt: 2024-05-08 22:29:17 -0000 (Wed, 08 May 2024) EndedAt: 2024-05-08 22:37:37 -0000 (Wed, 08 May 2024) EllapsedTime: 500.6 seconds RetCode: 0 Status: OK PackageFile: BASiCStan_1.6.0.tar.gz PackageFileSize: 47.64 KiB