Package: BASiCStan Version: 1.6.0 Command: /Library/Frameworks/R.framework/Resources/bin/R CMD INSTALL BASiCStan StartedAt: 2024-06-09 17:21:28 -0400 (Sun, 09 Jun 2024) EndedAt: 2024-06-09 17:26:01 -0400 (Sun, 09 Jun 2024) EllapsedTime: 272.5 seconds RetCode: 0 Status: OK