Package: BASiCStan Version: 1.6.0 Command: /Library/Frameworks/R.framework/Resources/bin/R CMD build --keep-empty-dirs --no-resave-data BASiCStan StartedAt: 2024-06-09 18:20:56 -0400 (Sun, 09 Jun 2024) EndedAt: 2024-06-09 18:25:29 -0400 (Sun, 09 Jun 2024) EllapsedTime: 273.0 seconds RetCode: 0 Status: OK PackageFile: BASiCStan_1.6.0.tar.gz PackageFileSize: 76.6 KiB