Package: BASiCStan Version: 1.6.0 Command: /Library/Frameworks/R.framework/Resources/bin/R CMD INSTALL BASiCStan StartedAt: 2024-10-16 18:30:28 -0400 (Wed, 16 Oct 2024) EndedAt: 2024-10-16 18:34:13 -0400 (Wed, 16 Oct 2024) EllapsedTime: 225.6 seconds RetCode: 0 Status: OK