Package: BASiCStan Version: 1.6.0 Command: /Library/Frameworks/R.framework/Resources/bin/R CMD build --keep-empty-dirs --no-resave-data BASiCStan StartedAt: 2024-10-16 19:52:22 -0400 (Wed, 16 Oct 2024) EndedAt: 2024-10-16 19:56:37 -0400 (Wed, 16 Oct 2024) EllapsedTime: 255.3 seconds RetCode: 0 Status: OK PackageFile: BASiCStan_1.6.0.tar.gz PackageFileSize: 76.59 KiB