Package: BASiCStan Version: 1.6.0 Command: rm -rf BASiCStan.buildbin-libdir && mkdir BASiCStan.buildbin-libdir && /Users/biocbuild/BBS/utils/build-universal.sh BASiCStan_1.6.0.tar.gz /Library/Frameworks/R.framework/Resources/bin/R BASiCStan.buildbin-libdir StartedAt: 2024-10-18 17:23:35 -0400 (Fri, 18 Oct 2024) EndedAt: 2024-10-18 17:28:10 -0400 (Fri, 18 Oct 2024) EllapsedTime: 275.2 seconds RetCode: 0 Status: OK PackageFile: BASiCStan_1.6.0.tgz PackageFileSize: 1010 KiB