Package: BASiCS Version: 2.16.0 Command: E:\biocbuild\bbs-3.19-bioc\R\bin\R.exe CMD check --no-multiarch --install=check:BASiCS.install-out.txt --library=E:\biocbuild\bbs-3.19-bioc\R\library --no-vignettes --timings BASiCS_2.16.0.tar.gz StartedAt: 2024-10-16 23:01:47 -0400 (Wed, 16 Oct 2024) EndedAt: 2024-10-16 23:13:50 -0400 (Wed, 16 Oct 2024) EllapsedTime: 722.8 seconds RetCode: 0 Status: OK CheckDir: BASiCS.Rcheck Warnings: 0