Package: BASiCS Version: 2.16.0 Command: /Library/Frameworks/R.framework/Resources/bin/R CMD INSTALL BASiCS StartedAt: 2024-10-16 16:37:59 -0400 (Wed, 16 Oct 2024) EndedAt: 2024-10-16 16:40:42 -0400 (Wed, 16 Oct 2024) EllapsedTime: 162.8 seconds RetCode: 0 Status: OK