Package: BASiCS Version: 2.16.0 Command: rm -rf BASiCS.buildbin-libdir && mkdir BASiCS.buildbin-libdir && /Users/biocbuild/BBS/utils/build-universal.sh BASiCS_2.16.0.tar.gz /Library/Frameworks/R.framework/Resources/bin/R BASiCS.buildbin-libdir StartedAt: 2024-10-17 15:40:22 -0400 (Thu, 17 Oct 2024) EndedAt: 2024-10-17 15:43:15 -0400 (Thu, 17 Oct 2024) EllapsedTime: 172.5 seconds RetCode: 0 Status: OK PackageFile: BASiCS_2.16.0.tgz PackageFileSize: 3.927 MiB