Package: BASiCS Version: 2.16.0 Command: /Library/Frameworks/R.framework/Resources/bin/R CMD check --install=check:BASiCS.install-out.txt --library=/Library/Frameworks/R.framework/Resources/library --no-vignettes --timings BASiCS_2.16.0.tar.gz StartedAt: 2024-10-17 13:06:06 -0400 (Thu, 17 Oct 2024) EndedAt: 2024-10-17 13:18:15 -0400 (Thu, 17 Oct 2024) EllapsedTime: 728.7 seconds RetCode: 0 Status: WARNINGS CheckDir: BASiCS.Rcheck Warnings: 1