Package: BASiCS Version: 2.16.0 Command: /Library/Frameworks/R.framework/Resources/bin/R CMD build --keep-empty-dirs --no-resave-data BASiCS StartedAt: 2024-10-16 19:51:42 -0400 (Wed, 16 Oct 2024) EndedAt: 2024-10-16 19:53:42 -0400 (Wed, 16 Oct 2024) EllapsedTime: 120.5 seconds RetCode: 0 Status: OK PackageFile: BASiCS_2.16.0.tar.gz PackageFileSize: 3.299 MiB