Package: BANDITS Version: 1.20.0 Command: /home/biocbuild/bbs-3.19-bioc/R/bin/R CMD build --keep-empty-dirs --no-resave-data BANDITS StartedAt: 2024-10-16 17:00:39 -0400 (Wed, 16 Oct 2024) EndedAt: 2024-10-16 17:03:00 -0400 (Wed, 16 Oct 2024) EllapsedTime: 141.3 seconds RetCode: 0 Status: OK PackageFile: BANDITS_1.20.0.tar.gz PackageFileSize: 1.186 MiB