Package: BANDITS Version: 1.20.0 Command: /Library/Frameworks/R.framework/Resources/bin/R CMD build --keep-empty-dirs --no-resave-data BANDITS StartedAt: 2024-06-09 15:53:28 -0400 (Sun, 09 Jun 2024) EndedAt: 2024-06-09 15:56:03 -0400 (Sun, 09 Jun 2024) EllapsedTime: 154.7 seconds RetCode: 0 Status: OK PackageFile: BANDITS_1.20.0.tar.gz PackageFileSize: 1.217 MiB