Package: BADER Version: 1.42.0 Command: rm -rf BADER.buildbin-libdir && mkdir BADER.buildbin-libdir && F:\biocbuild\bbs-3.19-bioc\R\bin\R.exe CMD INSTALL --build --library=BADER.buildbin-libdir BADER_1.42.0.tar.gz StartedAt: 2024-06-27 07:50:56 -0400 (Thu, 27 Jun 2024) EndedAt: 2024-06-27 07:51:02 -0400 (Thu, 27 Jun 2024) EllapsedTime: 6.1 seconds RetCode: 0 Status: OK PackageFile: BADER_1.42.0.zip PackageFileSize: 233.6 KiB