Package: BADER Version: 1.42.0 Command: /home/biocbuild/bbs-3.19-bioc/R/bin/R CMD check --install=check:BADER.install-out.txt --library=/home/biocbuild/bbs-3.19-bioc/R/site-library --timings BADER_1.42.0.tar.gz StartedAt: 2024-10-16 21:45:11 -0400 (Wed, 16 Oct 2024) EndedAt: 2024-10-16 21:45:38 -0400 (Wed, 16 Oct 2024) EllapsedTime: 27.0 seconds RetCode: 0 Status: OK CheckDir: BADER.Rcheck Warnings: 0