Package: BADER Version: 1.42.0 Command: /home/biocbuild/bbs-3.19-bioc/R/bin/R CMD build --keep-empty-dirs --no-resave-data BADER StartedAt: 2024-10-16 17:00:23 -0400 (Wed, 16 Oct 2024) EndedAt: 2024-10-16 17:00:39 -0400 (Wed, 16 Oct 2024) EllapsedTime: 15.0 seconds RetCode: 0 Status: OK PackageFile: BADER_1.42.0.tar.gz PackageFileSize: 145.7 KiB