Package: BADER Version: 1.42.0 Command: /Library/Frameworks/R.framework/Resources/bin/R CMD check --install=check:BADER.install-out.txt --library=/Library/Frameworks/R.framework/Resources/library --no-vignettes --timings BADER_1.42.0.tar.gz StartedAt: 2024-10-17 01:15:54 -0400 (Thu, 17 Oct 2024) EndedAt: 2024-10-17 01:16:32 -0400 (Thu, 17 Oct 2024) EllapsedTime: 37.8 seconds RetCode: 0 Status: OK CheckDir: BADER.Rcheck Warnings: 0