Package: BADER Version: 1.42.0 Command: /Library/Frameworks/R.framework/Resources/bin/R CMD build --keep-empty-dirs --no-resave-data BADER StartedAt: 2024-10-16 17:09:46 -0400 (Wed, 16 Oct 2024) EndedAt: 2024-10-16 17:10:24 -0400 (Wed, 16 Oct 2024) EllapsedTime: 38.1 seconds RetCode: 0 Status: OK PackageFile: BADER_1.42.0.tar.gz PackageFileSize: 238.3 KiB