Package: BADER Version: 1.42.0 Command: /Library/Frameworks/R.framework/Resources/bin/R CMD check --install=check:BADER.install-out.txt --library=/Library/Frameworks/R.framework/Resources/library --no-vignettes --timings BADER_1.42.0.tar.gz StartedAt: 2024-06-09 18:48:52 -0400 (Sun, 09 Jun 2024) EndedAt: 2024-06-09 18:49:17 -0400 (Sun, 09 Jun 2024) EllapsedTime: 24.8 seconds RetCode: 0 Status: OK CheckDir: BADER.Rcheck Warnings: 0