Package: BADER Version: 1.42.0 Command: /Library/Frameworks/R.framework/Resources/bin/R CMD check --install=check:BADER.install-out.txt --library=/Library/Frameworks/R.framework/Resources/library --no-vignettes --timings BADER_1.42.0.tar.gz StartedAt: 2024-06-10 07:52:56 -0400 (Mon, 10 Jun 2024) EndedAt: 2024-06-10 07:53:37 -0400 (Mon, 10 Jun 2024) EllapsedTime: 41.0 seconds RetCode: 0 Status: OK CheckDir: BADER.Rcheck Warnings: 0