Package: BADER Version: 1.42.0 Command: rm -rf BADER.buildbin-libdir && mkdir BADER.buildbin-libdir && /Users/biocbuild/BBS/utils/build-universal.sh BADER_1.42.0.tar.gz /Library/Frameworks/R.framework/Resources/bin/R BADER.buildbin-libdir StartedAt: 2024-10-18 17:21:31 -0400 (Fri, 18 Oct 2024) EndedAt: 2024-10-18 17:21:38 -0400 (Fri, 18 Oct 2024) EllapsedTime: 6.8 seconds RetCode: 0 Status: OK PackageFile: BADER_1.42.0.tgz PackageFileSize: 258.4 KiB