Package: BADER Version: 1.42.0 Maintainer: Andreas Neudecker MaintainerEmail: a.neudecker at arcor.de git_url: https://git.bioconductor.org/packages/BADER git_branch: RELEASE_3_19 git_last_commit: 336311e git_last_commit_date: 2024-04-30 10:33:21 -0400 (Tue, 30 Apr 2024)