Package: AssessORF Version: 1.22.0 Command: E:\biocbuild\bbs-3.19-bioc\R\bin\R.exe CMD INSTALL AssessORF StartedAt: 2024-10-16 16:19:18 -0400 (Wed, 16 Oct 2024) EndedAt: 2024-10-16 16:19:38 -0400 (Wed, 16 Oct 2024) EllapsedTime: 19.2 seconds RetCode: 0 Status: OK