Package: AssessORF Version: 1.22.0 Command: F:\biocbuild\bbs-3.19-bioc\R\bin\R.exe CMD check --no-multiarch --install=check:AssessORF.install-out.txt --library=F:\biocbuild\bbs-3.19-bioc\R\library --no-vignettes --timings AssessORF_1.22.0.tar.gz StartedAt: 2024-06-26 23:01:11 -0400 (Wed, 26 Jun 2024) EndedAt: 2024-06-26 23:03:29 -0400 (Wed, 26 Jun 2024) EllapsedTime: 138.3 seconds RetCode: 0 Status: OK CheckDir: AssessORF.Rcheck Warnings: 0