Package: AssessORF Version: 1.22.0 Command: rm -rf AssessORF.buildbin-libdir && mkdir AssessORF.buildbin-libdir && F:\biocbuild\bbs-3.19-bioc\R\bin\R.exe CMD INSTALL --build --library=AssessORF.buildbin-libdir AssessORF_1.22.0.tar.gz StartedAt: 2024-06-27 07:50:28 -0400 (Thu, 27 Jun 2024) EndedAt: 2024-06-27 07:50:45 -0400 (Thu, 27 Jun 2024) EllapsedTime: 17.0 seconds RetCode: 0 Status: OK PackageFile: AssessORF_1.22.0.zip PackageFileSize: 4.796 MiB