Package: AssessORF Version: 1.22.0 Command: /Library/Frameworks/R.framework/Resources/bin/R CMD INSTALL AssessORF StartedAt: 2024-10-16 15:23:18 -0400 (Wed, 16 Oct 2024) EndedAt: 2024-10-16 15:23:50 -0400 (Wed, 16 Oct 2024) EllapsedTime: 31.4 seconds RetCode: 0 Status: OK