Package: AssessORF Version: 1.22.0 Command: /Library/Frameworks/R.framework/Resources/bin/R CMD build --keep-empty-dirs --no-resave-data AssessORF StartedAt: 2024-10-16 17:06:11 -0400 (Wed, 16 Oct 2024) EndedAt: 2024-10-16 17:07:45 -0400 (Wed, 16 Oct 2024) EllapsedTime: 94.6 seconds RetCode: 0 Status: OK PackageFile: AssessORF_1.22.0.tar.gz PackageFileSize: 4.704 MiB