Package: AssessORF Version: 1.22.0 Command: /home/biocbuild/R/R-beta-2024-04-15_r86425/bin/R CMD INSTALL AssessORF StartedAt: 2024-05-08 20:15:40 -0000 (Wed, 08 May 2024) EndedAt: 2024-05-08 20:15:58 -0000 (Wed, 08 May 2024) EllapsedTime: 17.9 seconds RetCode: 0 Status: OK