Package: AssessORF Version: 1.22.0 Command: /home/biocbuild/R/R-beta-2024-04-15_r86425/bin/R CMD build --keep-empty-dirs --no-resave-data AssessORF StartedAt: 2024-05-08 22:22:10 -0000 (Wed, 08 May 2024) EndedAt: 2024-05-08 22:22:58 -0000 (Wed, 08 May 2024) EllapsedTime: 48.1 seconds RetCode: 0 Status: OK PackageFile: AssessORF_1.22.0.tar.gz PackageFileSize: 4.694 MiB