Package: ArrayExpress Version: 1.64.0 Command: E:\biocbuild\bbs-3.19-bioc\R\bin\R.exe CMD INSTALL ArrayExpress StartedAt: 2024-10-16 16:22:21 -0400 (Wed, 16 Oct 2024) EndedAt: 2024-10-16 16:22:59 -0400 (Wed, 16 Oct 2024) EllapsedTime: 38.7 seconds RetCode: 0 Status: OK