Package: ArrayExpress Version: 1.64.0 Command: chmod a+r ArrayExpress -R && E:\biocbuild\bbs-3.19-bioc\R\bin\R.exe CMD build --keep-empty-dirs --no-resave-data ArrayExpress StartedAt: 2024-10-16 17:34:40 -0400 (Wed, 16 Oct 2024) EndedAt: 2024-10-16 17:37:21 -0400 (Wed, 16 Oct 2024) EllapsedTime: 160.6 seconds RetCode: 0 Status: OK PackageFile: ArrayExpress_1.64.0.tar.gz PackageFileSize: 137.2 KiB