Package: ArrayExpress Version: 1.64.0 Command: /home/biocbuild/bbs-3.19-bioc/R/bin/R CMD check --install=check:ArrayExpress.install-out.txt --library=/home/biocbuild/bbs-3.19-bioc/R/site-library --timings ArrayExpress_1.64.0.tar.gz StartedAt: 2024-10-16 21:39:31 -0400 (Wed, 16 Oct 2024) EndedAt: 2024-10-16 22:19:31 -0400 (Wed, 16 Oct 2024) EllapsedTime: 2400.0 seconds RetCode: None Status: TIMEOUT CheckDir: ArrayExpress.Rcheck Warnings: NA