Package: ArrayExpress Version: 1.64.0 Command: /Library/Frameworks/R.framework/Resources/bin/R CMD build --keep-empty-dirs --no-resave-data ArrayExpress StartedAt: 2024-10-16 17:05:03 -0400 (Wed, 16 Oct 2024) EndedAt: 2024-10-16 17:09:13 -0400 (Wed, 16 Oct 2024) EllapsedTime: 249.6 seconds RetCode: 0 Status: OK PackageFile: ArrayExpress_1.64.0.tar.gz PackageFileSize: 136.8 KiB