Package: ArrayExpress Version: 1.64.0 Command: /Library/Frameworks/R.framework/Resources/bin/R CMD INSTALL ArrayExpress StartedAt: 2024-06-09 15:32:12 -0400 (Sun, 09 Jun 2024) EndedAt: 2024-06-09 15:32:50 -0400 (Sun, 09 Jun 2024) EllapsedTime: 37.7 seconds RetCode: 0 Status: OK