Package: ArrayExpress Version: 1.64.0 Command: /Library/Frameworks/R.framework/Resources/bin/R CMD check --install=check:ArrayExpress.install-out.txt --library=/Library/Frameworks/R.framework/Resources/library --no-vignettes --timings ArrayExpress_1.64.0.tar.gz StartedAt: 2024-06-10 07:28:13 -0400 (Mon, 10 Jun 2024) EndedAt: 2024-06-10 07:34:51 -0400 (Mon, 10 Jun 2024) EllapsedTime: 397.8 seconds RetCode: 0 Status: OK CheckDir: ArrayExpress.Rcheck Warnings: 0