Package: ArrayExpress Version: 1.64.0 Command: /Library/Frameworks/R.framework/Resources/bin/R CMD INSTALL ArrayExpress StartedAt: 2024-10-16 16:13:49 -0400 (Wed, 16 Oct 2024) EndedAt: 2024-10-16 16:14:20 -0400 (Wed, 16 Oct 2024) EllapsedTime: 31.1 seconds RetCode: 0 Status: OK