Package: ArrayExpress Version: 1.64.0 Command: rm -rf ArrayExpress.buildbin-libdir && mkdir ArrayExpress.buildbin-libdir && /Users/biocbuild/BBS/utils/build-universal.sh ArrayExpress_1.64.0.tar.gz /Library/Frameworks/R.framework/Resources/bin/R ArrayExpress.buildbin-libdir StartedAt: 2024-10-18 17:18:10 -0400 (Fri, 18 Oct 2024) EndedAt: 2024-10-18 17:18:48 -0400 (Fri, 18 Oct 2024) EllapsedTime: 37.7 seconds RetCode: 0 Status: OK PackageFile: ArrayExpress_1.64.0.tgz PackageFileSize: 182.7 KiB