Package: AnnotationHubData Version: 1.34.0 Command: E:\biocbuild\bbs-3.19-bioc\R\bin\R.exe CMD INSTALL AnnotationHubData StartedAt: 2024-10-16 16:44:44 -0400 (Wed, 16 Oct 2024) EndedAt: 2024-10-16 16:46:53 -0400 (Wed, 16 Oct 2024) EllapsedTime: 129.1 seconds RetCode: 0 Status: OK