Package: AnnotationHubData Version: 1.34.0 Command: E:\biocbuild\bbs-3.19-bioc\R\bin\R.exe CMD check --no-multiarch --install=check:AnnotationHubData.install-out.txt --library=E:\biocbuild\bbs-3.19-bioc\R\library --no-vignettes --timings AnnotationHubData_1.34.0.tar.gz StartedAt: 2024-10-16 22:50:02 -0400 (Wed, 16 Oct 2024) EndedAt: 2024-10-16 23:00:34 -0400 (Wed, 16 Oct 2024) EllapsedTime: 631.8 seconds RetCode: 0 Status: WARNINGS CheckDir: AnnotationHubData.Rcheck Warnings: 1