Package: AnnotationHubData Version: 1.34.0 Command: chmod a+r AnnotationHubData -R && E:\biocbuild\bbs-3.19-bioc\R\bin\R.exe CMD build --keep-empty-dirs --no-resave-data AnnotationHubData StartedAt: 2024-10-16 17:33:30 -0400 (Wed, 16 Oct 2024) EndedAt: 2024-10-16 17:35:05 -0400 (Wed, 16 Oct 2024) EllapsedTime: 95.1 seconds RetCode: 0 Status: OK PackageFile: AnnotationHubData_1.34.0.tar.gz PackageFileSize: 400.4 KiB