Package: AnnotationHubData Version: 1.34.0 Command: chmod a+r AnnotationHubData -R && F:\biocbuild\bbs-3.19-bioc\R\bin\R.exe CMD build --keep-empty-dirs --no-resave-data AnnotationHubData StartedAt: 2024-06-26 17:04:56 -0400 (Wed, 26 Jun 2024) EndedAt: 2024-06-26 17:05:55 -0400 (Wed, 26 Jun 2024) EllapsedTime: 59.6 seconds RetCode: 0 Status: OK PackageFile: AnnotationHubData_1.34.0.tar.gz PackageFileSize: 400.4 KiB