Package: AnnotationHubData Version: 1.34.0 Command: /Library/Frameworks/R.framework/Resources/bin/R CMD build --keep-empty-dirs --no-resave-data AnnotationHubData StartedAt: 2024-10-16 17:03:39 -0400 (Wed, 16 Oct 2024) EndedAt: 2024-10-16 17:05:21 -0400 (Wed, 16 Oct 2024) EllapsedTime: 102.0 seconds RetCode: 0 Status: OK PackageFile: AnnotationHubData_1.34.0.tar.gz PackageFileSize: 400.4 KiB