Package: AnnotationHubData Version: 1.34.0 Command: rm -rf AnnotationHubData.buildbin-libdir && mkdir AnnotationHubData.buildbin-libdir && /Users/biocbuild/BBS/utils/build-universal.sh AnnotationHubData_1.34.0.tar.gz /Library/Frameworks/R.framework/Resources/bin/R AnnotationHubData.buildbin-libdir StartedAt: 2024-10-17 15:37:44 -0400 (Thu, 17 Oct 2024) EndedAt: 2024-10-17 15:39:25 -0400 (Thu, 17 Oct 2024) EllapsedTime: 101.1 seconds RetCode: 0 Status: OK PackageFile: AnnotationHubData_1.34.0.tgz PackageFileSize: 929.7 KiB