Package: AnnotationHubData Version: 1.34.0 Command: /home/biocbuild/R/R-beta-2024-04-15_r86425/bin/R CMD build --keep-empty-dirs --no-resave-data AnnotationHubData StartedAt: 2024-05-08 22:18:45 -0000 (Wed, 08 May 2024) EndedAt: 2024-05-08 22:19:44 -0000 (Wed, 08 May 2024) EllapsedTime: 59.1 seconds RetCode: 0 Status: OK PackageFile: AnnotationHubData_1.34.0.tar.gz PackageFileSize: 425.3 KiB