Package: AnnotationHubData Version: 1.34.0 Command: /Library/Frameworks/R.framework/Resources/bin/R CMD INSTALL AnnotationHubData StartedAt: 2024-06-09 16:12:25 -0400 (Sun, 09 Jun 2024) EndedAt: 2024-06-09 16:13:34 -0400 (Sun, 09 Jun 2024) EllapsedTime: 68.1 seconds RetCode: 0 Status: OK